BEGIN:VCALENDAR
VERSION:2.0
PRODID:-//Tukios.com/
BEGIN:VEVENT
UID:e9330273-fcd2-4ad1-885e-7b39aecf1d24@www.bartleyfuneralhome.com
DTSTAMP:20260424T211323Z
DTSTART:20260430T140000Z
DTEND:20260430T150000Z
SUMMARY:Graveside Service
DESCRIPTION:
URL:https://www.bartleyfuneralhome.com/obituaries/linda-masters
LOCATION:Bethlehem Cemetery 3237 Alliance Road Northwest  Malvern OH 
	44644
GEO:40.6896151;-81.1626616
END:VEVENT
END:VCALENDAR